BEGIN:VCALENDAR
VERSION:2.0
PRODID:-//Corpus Christi Catholic School | Holland, Michigan - ECPv6.15.20//NONSGML v1.0//EN
CALSCALE:GREGORIAN
METHOD:PUBLISH
X-WR-CALNAME:Corpus Christi Catholic School | Holland, Michigan
X-ORIGINAL-URL:https://www.corpuschristischool.us
X-WR-CALDESC:Events for Corpus Christi Catholic School | Holland, Michigan
REFRESH-INTERVAL;VALUE=DURATION:PT1H
X-Robots-Tag:noindex
X-PUBLISHED-TTL:PT1H
BEGIN:VTIMEZONE
TZID:UTC
BEGIN:STANDARD
TZOFFSETFROM:+0000
TZOFFSETTO:+0000
TZNAME:UTC
DTSTART:20200101T000000
END:STANDARD
END:VTIMEZONE
BEGIN:VEVENT
DTSTART;VALUE=DATE:20211029
DTEND;VALUE=DATE:20211030
DTSTAMP:20260421T084244
CREATED:20210923T181456Z
LAST-MODIFIED:20211019T234739Z
UID:14381-1635465600-1635551999@www.corpuschristischool.us
SUMMARY:All Saints Parties
DESCRIPTION:
URL:https://www.corpuschristischool.us/event/all-saints-parties-2/
END:VEVENT
BEGIN:VEVENT
DTSTART;VALUE=DATE:20211029
DTEND;VALUE=DATE:20211030
DTSTAMP:20260421T084244
CREATED:20210923T181354Z
LAST-MODIFIED:20210923T181354Z
UID:14380-1635465600-1635551999@www.corpuschristischool.us
SUMMARY:First Quarter Ends
DESCRIPTION:
URL:https://www.corpuschristischool.us/event/first-quarter-ends-5/
END:VEVENT
BEGIN:VEVENT
DTSTART;VALUE=DATE:20211022
DTEND;VALUE=DATE:20211023
DTSTAMP:20260421T084244
CREATED:20210309T193402Z
LAST-MODIFIED:20210309T193402Z
UID:14265-1634860800-1634947199@www.corpuschristischool.us
SUMMARY:Staff PD- No School
DESCRIPTION:
URL:https://www.corpuschristischool.us/event/staff-pd-no-school/
END:VEVENT
BEGIN:VEVENT
DTSTART;VALUE=DATE:20211020
DTEND;VALUE=DATE:20211022
DTSTAMP:20260421T084244
CREATED:20210910T201741Z
LAST-MODIFIED:20210910T201741Z
UID:14370-1634688000-1634860799@www.corpuschristischool.us
SUMMARY:Parent Teacher Conferences
DESCRIPTION:
URL:https://www.corpuschristischool.us/event/parent-teacher-conferences-3/
END:VEVENT
BEGIN:VEVENT
DTSTART;VALUE=DATE:20211013
DTEND;VALUE=DATE:20211014
DTSTAMP:20260421T084244
CREATED:20230207T175953Z
LAST-MODIFIED:20230207T175953Z
UID:15134-1634083200-1634169599@www.corpuschristischool.us
SUMMARY:Fire Drill - Completed
DESCRIPTION:
URL:https://www.corpuschristischool.us/event/fire-drill-completed-15/
END:VEVENT
BEGIN:VEVENT
DTSTART;VALUE=DATE:20211013
DTEND;VALUE=DATE:20211014
DTSTAMP:20260421T084244
CREATED:20211109T235822Z
LAST-MODIFIED:20211109T235822Z
UID:14424-1634083200-1634169599@www.corpuschristischool.us
SUMMARY:Completed Fire Drill
DESCRIPTION:
URL:https://www.corpuschristischool.us/event/completed-fire-drill-2/
END:VEVENT
BEGIN:VEVENT
DTSTART;VALUE=DATE:20211012
DTEND;VALUE=DATE:20211013
DTSTAMP:20260421T084244
CREATED:20210910T201126Z
LAST-MODIFIED:20210910T201126Z
UID:14369-1633996800-1634083199@www.corpuschristischool.us
SUMMARY:Geskus Picture Day
DESCRIPTION:
URL:https://www.corpuschristischool.us/event/geskus-picture-day-3/
END:VEVENT
BEGIN:VEVENT
DTSTART;VALUE=DATE:20211001
DTEND;VALUE=DATE:20211002
DTSTAMP:20260421T084244
CREATED:20210910T175844Z
LAST-MODIFIED:20210910T175844Z
UID:14356-1633046400-1633132799@www.corpuschristischool.us
SUMMARY:Spirit Dress Day
DESCRIPTION:
URL:https://www.corpuschristischool.us/event/spirit-dress-day-8/
END:VEVENT
BEGIN:VEVENT
DTSTART;VALUE=DATE:20210924
DTEND;VALUE=DATE:20210925
DTSTAMP:20260421T084244
CREATED:20230207T180100Z
LAST-MODIFIED:20230207T180100Z
UID:15135-1632441600-1632527999@www.corpuschristischool.us
SUMMARY:Fire Drill - Completed
DESCRIPTION:
URL:https://www.corpuschristischool.us/event/fire-drill-completed-16/
END:VEVENT
BEGIN:VEVENT
DTSTART;VALUE=DATE:20210924
DTEND;VALUE=DATE:20210925
DTSTAMP:20260421T084244
CREATED:20211109T235859Z
LAST-MODIFIED:20211109T235859Z
UID:14425-1632441600-1632527999@www.corpuschristischool.us
SUMMARY:Completed Fire Drill
DESCRIPTION:
URL:https://www.corpuschristischool.us/event/completed-fire-drill-3/
END:VEVENT
BEGIN:VEVENT
DTSTART;VALUE=DATE:20210924
DTEND;VALUE=DATE:20210925
DTSTAMP:20260421T084244
CREATED:20210910T175757Z
LAST-MODIFIED:20210910T175757Z
UID:14354-1632441600-1632527999@www.corpuschristischool.us
SUMMARY:$1 Jeans Day - Haiti Earthquake Relief
DESCRIPTION:
URL:https://www.corpuschristischool.us/event/1-jeans-day-haiti-earthquake-relief/
END:VEVENT
BEGIN:VEVENT
DTSTART;VALUE=DATE:20210903
DTEND;VALUE=DATE:20210907
DTSTAMP:20260421T084244
CREATED:20210309T192429Z
LAST-MODIFIED:20210309T192429Z
UID:14264-1630627200-1630972799@www.corpuschristischool.us
SUMMARY:Labor Day Holiday- No School
DESCRIPTION:
URL:https://www.corpuschristischool.us/event/labor-day-holiday-no-school-3/
END:VEVENT
BEGIN:VEVENT
DTSTART;VALUE=DATE:20210903
DTEND;VALUE=DATE:20210904
DTSTAMP:20260421T084244
CREATED:20210305T190028Z
LAST-MODIFIED:20210305T190028Z
UID:14225-1630627200-1630713599@www.corpuschristischool.us
SUMMARY:No School
DESCRIPTION:
URL:https://www.corpuschristischool.us/event/no-school/
END:VEVENT
BEGIN:VEVENT
DTSTART;VALUE=DATE:20210825
DTEND;VALUE=DATE:20210826
DTSTAMP:20260421T084244
CREATED:20210305T185347Z
LAST-MODIFIED:20210305T185347Z
UID:14224-1629849600-1629935999@www.corpuschristischool.us
SUMMARY:First Day of School
DESCRIPTION:
URL:https://www.corpuschristischool.us/event/first-day-of-school-2/
END:VEVENT
BEGIN:VEVENT
DTSTART;VALUE=DATE:20210628
DTEND;VALUE=DATE:20210711
DTSTAMP:20260421T084244
CREATED:20210511T215856Z
LAST-MODIFIED:20210511T215856Z
UID:14323-1624838400-1625961599@www.corpuschristischool.us
SUMMARY:School Office Closed
DESCRIPTION:
URL:https://www.corpuschristischool.us/event/school-office-closed/
END:VEVENT
BEGIN:VEVENT
DTSTART;TZID=UTC:20210606T110000
DTEND;TZID=UTC:20210606T123000
DTSTAMP:20260421T084244
CREATED:20210511T175749Z
LAST-MODIFIED:20210511T175749Z
UID:14322-1622977200-1622982600@www.corpuschristischool.us
SUMMARY:Solemnity of Corpus Christi Mass
DESCRIPTION:
URL:https://www.corpuschristischool.us/event/solemnity-of-corpus-christi-mass/
LOCATION:Our Lady of the Lake
END:VEVENT
BEGIN:VEVENT
DTSTART;VALUE=DATE:20210604
DTEND;VALUE=DATE:20210605
DTSTAMP:20260421T084244
CREATED:20200818T002430Z
LAST-MODIFIED:20200818T002430Z
UID:14141-1622764800-1622851199@www.corpuschristischool.us
SUMMARY:Last Day of School - Half Day
DESCRIPTION:
URL:https://www.corpuschristischool.us/event/last-day-of-school-half-day-2/
END:VEVENT
BEGIN:VEVENT
DTSTART;VALUE=DATE:20210604
DTEND;VALUE=DATE:20210605
DTSTAMP:20260421T084244
CREATED:20200624T222259Z
LAST-MODIFIED:20200624T222259Z
UID:14091-1622764800-1622851199@www.corpuschristischool.us
SUMMARY:Last Day of School - Half Day
DESCRIPTION:
URL:https://www.corpuschristischool.us/event/last-day-of-school-half-day/
END:VEVENT
BEGIN:VEVENT
DTSTART;TZID=UTC:20210602T183000
DTEND;TZID=UTC:20210602T203000
DTSTAMP:20260421T084244
CREATED:20210308T192651Z
LAST-MODIFIED:20210308T192651Z
UID:14250-1622658600-1622665800@www.corpuschristischool.us
SUMMARY:8th Grade Graduation
DESCRIPTION:
URL:https://www.corpuschristischool.us/event/8th-grade-graduation-3/
LOCATION:Our Lady of the Lake
END:VEVENT
BEGIN:VEVENT
DTSTART;VALUE=DATE:20210602
DTEND;VALUE=DATE:20210603
DTSTAMP:20260421T084244
CREATED:20210308T192732Z
LAST-MODIFIED:20210308T192732Z
UID:14251-1622592000-1622678399@www.corpuschristischool.us
SUMMARY:Kindergarten Graduation
DESCRIPTION:
URL:https://www.corpuschristischool.us/event/kindergarten-graduation/
END:VEVENT
BEGIN:VEVENT
DTSTART;VALUE=DATE:20210531
DTEND;VALUE=DATE:20210601
DTSTAMP:20260421T084244
CREATED:20200818T002328Z
LAST-MODIFIED:20200818T002328Z
UID:14140-1622419200-1622505599@www.corpuschristischool.us
SUMMARY:Memorial Day - No School
DESCRIPTION:
URL:https://www.corpuschristischool.us/event/memorial-day-no-school-4/
END:VEVENT
BEGIN:VEVENT
DTSTART;VALUE=DATE:20210528
DTEND;VALUE=DATE:20210529
DTSTAMP:20260421T084244
CREATED:20210305T185104Z
LAST-MODIFIED:20210305T185104Z
UID:14223-1622160000-1622246399@www.corpuschristischool.us
SUMMARY:Field Day (Weather Dependent)
DESCRIPTION:
URL:https://www.corpuschristischool.us/event/field-day-weather-dependent/
END:VEVENT
BEGIN:VEVENT
DTSTART;TZID=UTC:20210522T080000
DTEND;TZID=UTC:20210522T120000
DTSTAMP:20260421T084244
CREATED:20210318T193506Z
LAST-MODIFIED:20210318T193506Z
UID:14304-1621670400-1621684800@www.corpuschristischool.us
SUMMARY:Track Meet
DESCRIPTION:
URL:https://www.corpuschristischool.us/event/track-meet-4/
LOCATION:West Catholic High School\, 1801 Bristol Ave NW\, Grand Rapids\, MI\, 49504\, United States
END:VEVENT
BEGIN:VEVENT
DTSTART;TZID=UTC:20210521T190000
DTEND;TZID=UTC:20210521T190000
DTSTAMP:20260421T084244
CREATED:20210308T194449Z
LAST-MODIFIED:20210308T194450Z
UID:14254-1621623600-1621623600@www.corpuschristischool.us
SUMMARY:Spring Cash Raffle
DESCRIPTION:Drawing Date:         May 21\, 2021 @ 7pm\nWe’re having a raffle to celebrate spring and we need your help. All school families are asked to sell 10 tickets each.  So\, tell your friends and family about this exciting opportunity to win $5000!  That’s right\, the raffle winner will receive $5000*! \nGreat Raffle Prizes:\n\nThe Grand Prize is $5000 in cash.*  (*If fewer than 500 tickets are sold\, the raffe will revert to a 50/50 raffle with the winner receiving a cash prize of 50% of the ticket sales.) \nThere will be an Early Bird drawing on May 2nd.  The winner will receive $500 in cash; and\, their ticket will still be eligible in the Grand Prize drawing on May 21st.\nA Family Prize of $500 will go to the CCCS family that sells the most raffle tickets.\nThe individual or organization that sold the winning (Grand Prize) ticket will win a large screen television donated by B2 Outlets of Holland.\n\nFor more information and to order tickets please visit https://www.corpuschristischool.us/give/ \n 
URL:https://www.corpuschristischool.us/event/spring-cash-raffle/
LOCATION:Corpus Christi Catholic School\, 12100 Quincy St.\, Holland\, MI\, 49424\, United States
CATEGORIES:Home Page Featured
ATTACH;FMTTYPE=image/jpeg:https://www.corpuschristischool.us/wp-content/uploads/2021/03/Cash-Raffle-Image-Op-1.jpg
ORGANIZER;CN="CCCS Development":MAILTO:cccsdevelopment@dogrschools.org
END:VEVENT
BEGIN:VEVENT
DTSTART;TZID=UTC:20210513T160000
DTEND;TZID=UTC:20210513T200000
DTSTAMP:20260421T084244
CREATED:20210318T193428Z
LAST-MODIFIED:20210318T193428Z
UID:14303-1620921600-1620936000@www.corpuschristischool.us
SUMMARY:Track Meet
DESCRIPTION:
URL:https://www.corpuschristischool.us/event/track-meet-3/
END:VEVENT
BEGIN:VEVENT
DTSTART;VALUE=DATE:20210513
DTEND;VALUE=DATE:20210514
DTSTAMP:20260421T084244
CREATED:20230207T180250Z
LAST-MODIFIED:20230207T180250Z
UID:15136-1620864000-1620950399@www.corpuschristischool.us
SUMMARY:Fire Drill - Completed
DESCRIPTION:
URL:https://www.corpuschristischool.us/event/fire-drill-completed-17/
END:VEVENT
BEGIN:VEVENT
DTSTART;TZID=UTC:20210512T084500
DTEND;TZID=UTC:20210512T093000
DTSTAMP:20260421T084244
CREATED:20210420T152020Z
LAST-MODIFIED:20210420T152020Z
UID:14314-1620809100-1620811800@www.corpuschristischool.us
SUMMARY:May Crowning Mass
DESCRIPTION:
URL:https://www.corpuschristischool.us/event/may-crowning-mass/
END:VEVENT
BEGIN:VEVENT
DTSTART;VALUE=DATE:20210510
DTEND;VALUE=DATE:20210511
DTSTAMP:20260421T084244
CREATED:20230207T180322Z
LAST-MODIFIED:20230207T180322Z
UID:15137-1620604800-1620691199@www.corpuschristischool.us
SUMMARY:Lockdown Drill - Completed
DESCRIPTION:
URL:https://www.corpuschristischool.us/event/lockdown-drill-completed-8/
END:VEVENT
BEGIN:VEVENT
DTSTART;TZID=UTC:20210507T160000
DTEND;TZID=UTC:20210507T200000
DTSTAMP:20260421T084244
CREATED:20210318T193331Z
LAST-MODIFIED:20210318T193331Z
UID:14302-1620403200-1620417600@www.corpuschristischool.us
SUMMARY:Track Meet
DESCRIPTION:
URL:https://www.corpuschristischool.us/event/track-meet-2/
LOCATION:West Catholic High School\, 1801 Bristol Ave NW\, Grand Rapids\, MI\, 49504\, United States
END:VEVENT
BEGIN:VEVENT
DTSTART;VALUE=DATE:20210507
DTEND;VALUE=DATE:20210508
DTSTAMP:20260421T084244
CREATED:20230207T180357Z
LAST-MODIFIED:20230207T180357Z
UID:15138-1620345600-1620431999@www.corpuschristischool.us
SUMMARY:Tornado Drill - Completed
DESCRIPTION:
URL:https://www.corpuschristischool.us/event/tornado-drill-completed-5/
END:VEVENT
END:VCALENDAR