BEGIN:VCALENDAR
VERSION:2.0
PRODID:-//Corpus Christi Catholic School | Holland, Michigan - ECPv6.15.20//NONSGML v1.0//EN
CALSCALE:GREGORIAN
METHOD:PUBLISH
X-WR-CALNAME:Corpus Christi Catholic School | Holland, Michigan
X-ORIGINAL-URL:https://www.corpuschristischool.us
X-WR-CALDESC:Events for Corpus Christi Catholic School | Holland, Michigan
REFRESH-INTERVAL;VALUE=DURATION:PT1H
X-Robots-Tag:noindex
X-PUBLISHED-TTL:PT1H
BEGIN:VTIMEZONE
TZID:UTC
BEGIN:STANDARD
TZOFFSETFROM:+0000
TZOFFSETTO:+0000
TZNAME:UTC
DTSTART:20220101T000000
END:STANDARD
END:VTIMEZONE
BEGIN:VTIMEZONE
TZID:America/Detroit
BEGIN:DAYLIGHT
TZOFFSETFROM:-0500
TZOFFSETTO:-0400
TZNAME:EDT
DTSTART:20220313T070000
END:DAYLIGHT
BEGIN:STANDARD
TZOFFSETFROM:-0400
TZOFFSETTO:-0500
TZNAME:EST
DTSTART:20221106T060000
END:STANDARD
BEGIN:DAYLIGHT
TZOFFSETFROM:-0500
TZOFFSETTO:-0400
TZNAME:EDT
DTSTART:20230312T070000
END:DAYLIGHT
BEGIN:STANDARD
TZOFFSETFROM:-0400
TZOFFSETTO:-0500
TZNAME:EST
DTSTART:20231105T060000
END:STANDARD
BEGIN:DAYLIGHT
TZOFFSETFROM:-0500
TZOFFSETTO:-0400
TZNAME:EDT
DTSTART:20240310T070000
END:DAYLIGHT
BEGIN:STANDARD
TZOFFSETFROM:-0400
TZOFFSETTO:-0500
TZNAME:EST
DTSTART:20241103T060000
END:STANDARD
BEGIN:DAYLIGHT
TZOFFSETFROM:-0500
TZOFFSETTO:-0400
TZNAME:EDT
DTSTART:20250309T070000
END:DAYLIGHT
BEGIN:STANDARD
TZOFFSETFROM:-0400
TZOFFSETTO:-0500
TZNAME:EST
DTSTART:20251102T060000
END:STANDARD
END:VTIMEZONE
BEGIN:VEVENT
DTSTART;TZID=UTC:20240401T080000
DTEND;TZID=UTC:20240405T170000
DTSTAMP:20260424T102334
CREATED:20221122T011504Z
LAST-MODIFIED:20221122T011504Z
UID:15080-1711958400-1712336400@www.corpuschristischool.us
SUMMARY:Spring Break - No School
DESCRIPTION:
URL:https://www.corpuschristischool.us/event/spring-break-no-school-6/
END:VEVENT
BEGIN:VEVENT
DTSTART;VALUE=DATE:20240329
DTEND;VALUE=DATE:20240330
DTSTAMP:20260424T102334
CREATED:20221122T011421Z
LAST-MODIFIED:20221122T011421Z
UID:15079-1711670400-1711756799@www.corpuschristischool.us
SUMMARY:Good Friday - No School
DESCRIPTION:
URL:https://www.corpuschristischool.us/event/good-friday-no-school-5/
END:VEVENT
BEGIN:VEVENT
DTSTART;VALUE=DATE:20240314
DTEND;VALUE=DATE:20240315
DTSTAMP:20260424T102334
CREATED:20240409T132453Z
LAST-MODIFIED:20240409T132453Z
UID:15631-1710374400-1710460799@www.corpuschristischool.us
SUMMARY:Tornado Drill Complete
DESCRIPTION:
URL:https://www.corpuschristischool.us/event/tornado-drill-complete-2/
END:VEVENT
BEGIN:VEVENT
DTSTART;VALUE=DATE:20240301
DTEND;VALUE=DATE:20240302
DTSTAMP:20260424T102334
CREATED:20221122T011827Z
LAST-MODIFIED:20221122T015406Z
UID:15084-1709251200-1709337599@www.corpuschristischool.us
SUMMARY:Teacher In-Service - No School
DESCRIPTION:
URL:https://www.corpuschristischool.us/event/diocesan-pd-day-no-school-3/
END:VEVENT
BEGIN:VEVENT
DTSTART;VALUE=DATE:20240229
DTEND;VALUE=DATE:20240301
DTSTAMP:20260424T102334
CREATED:20240222T142356Z
LAST-MODIFIED:20240222T142356Z
UID:15612-1709164800-1709251199@www.corpuschristischool.us
SUMMARY:Teacher In-Service – No School
DESCRIPTION:
URL:https://www.corpuschristischool.us/event/teacher-in-service-no-school-3/
END:VEVENT
BEGIN:VEVENT
DTSTART;VALUE=DATE:20240226
DTEND;VALUE=DATE:20240227
DTSTAMP:20260424T102334
CREATED:20240228T144849Z
LAST-MODIFIED:20240228T145157Z
UID:15613-1708905600-1708991999@www.corpuschristischool.us
SUMMARY:Lockdown Drill Complete
DESCRIPTION:
URL:https://www.corpuschristischool.us/event/lockdown-drill-complete-2/
END:VEVENT
BEGIN:VEVENT
DTSTART;TZID=UTC:20240219T080000
DTEND;TZID=UTC:20240220T170000
DTSTAMP:20260424T102334
CREATED:20221122T011104Z
LAST-MODIFIED:20221122T011104Z
UID:15078-1708329600-1708448400@www.corpuschristischool.us
SUMMARY:Mid-Winter Break - No School
DESCRIPTION:
URL:https://www.corpuschristischool.us/event/mid-winter-break-no-school-5/
END:VEVENT
BEGIN:VEVENT
DTSTART;TZID=America/Detroit:20240210T180000
DTEND;TZID=America/Detroit:20240210T200000
DTSTAMP:20260424T102334
CREATED:20240124T194947Z
LAST-MODIFIED:20240124T195857Z
UID:15534-1707588000-1707595200@www.corpuschristischool.us
SUMMARY:Daddy Daughter Dance
DESCRIPTION:RSVP to the School Office ccoffice@dogrschools.org or 616-796-2300.  Payment can be made at the door the night of the dance!
URL:https://www.corpuschristischool.us/event/daddy-daughter-dance/
LOCATION:Corpus Christi Catholic School\, 12100 Quincy St.\, Holland\, MI\, 49424\, United States
CATEGORIES:Home Page Featured
ATTACH;FMTTYPE=image/jpeg:https://www.corpuschristischool.us/wp-content/uploads/2024/01/IMG_1249.jpg
ORGANIZER;CN="Home & School":MAILTO:kraus@hope.edu
END:VEVENT
BEGIN:VEVENT
DTSTART;VALUE=DATE:20240126
DTEND;VALUE=DATE:20240127
DTSTAMP:20260424T102334
CREATED:20240126T194142Z
LAST-MODIFIED:20240126T194142Z
UID:15590-1706227200-1706313599@www.corpuschristischool.us
SUMMARY:Lockdown Drill Completed
DESCRIPTION:
URL:https://www.corpuschristischool.us/event/lockdown-drill-completed-13/
END:VEVENT
BEGIN:VEVENT
DTSTART;VALUE=DATE:20240115
DTEND;VALUE=DATE:20240116
DTSTAMP:20260424T102334
CREATED:20221122T010854Z
LAST-MODIFIED:20221122T010854Z
UID:15076-1705276800-1705363199@www.corpuschristischool.us
SUMMARY:Martin Luther King Jr. Holiday - No School
DESCRIPTION:
URL:https://www.corpuschristischool.us/event/martin-luther-king-jr-holiday-no-school-4/
END:VEVENT
BEGIN:VEVENT
DTSTART;TZID=UTC:20231225T080000
DTEND;TZID=UTC:20240107T170000
DTSTAMP:20260424T102334
CREATED:20221122T010600Z
LAST-MODIFIED:20221122T010600Z
UID:15074-1703491200-1704646800@www.corpuschristischool.us
SUMMARY:Christmas Vacation - No School
DESCRIPTION:
URL:https://www.corpuschristischool.us/event/christmas-vacation-no-school-3/
END:VEVENT
BEGIN:VEVENT
DTSTART;VALUE=DATE:20231212
DTEND;VALUE=DATE:20231213
DTSTAMP:20260424T102334
CREATED:20231212T143921Z
LAST-MODIFIED:20231212T143921Z
UID:15517-1702339200-1702425599@www.corpuschristischool.us
SUMMARY:Fire Drill Completed
DESCRIPTION:
URL:https://www.corpuschristischool.us/event/fire-drill-completed-25/
END:VEVENT
BEGIN:VEVENT
DTSTART;VALUE=DATE:20231129
DTEND;VALUE=DATE:20231130
DTSTAMP:20260424T102334
CREATED:20231206T185255Z
LAST-MODIFIED:20231206T185255Z
UID:15515-1701216000-1701302399@www.corpuschristischool.us
SUMMARY:Lockdown Drill Completed
DESCRIPTION:
URL:https://www.corpuschristischool.us/event/lockdown-drill-completed-12/
END:VEVENT
BEGIN:VEVENT
DTSTART;TZID=UTC:20231122T080000
DTEND;TZID=UTC:20231124T170000
DTSTAMP:20260424T102334
CREATED:20221122T010147Z
LAST-MODIFIED:20221122T010456Z
UID:15070-1700640000-1700845200@www.corpuschristischool.us
SUMMARY:Thanksgiving Vacation - No School
DESCRIPTION:
URL:https://www.corpuschristischool.us/event/thanksgiving-break-2/
END:VEVENT
BEGIN:VEVENT
DTSTART;TZID=America/Detroit:20231118T090000
DTEND;TZID=America/Detroit:20231118T140000
DTSTAMP:20260424T102334
CREATED:20230907T133602Z
LAST-MODIFIED:20230907T133602Z
UID:15435-1700298000-1700316000@www.corpuschristischool.us
SUMMARY:Craft Sale
DESCRIPTION:
URL:https://www.corpuschristischool.us/event/craft-sale-2/
LOCATION:Corpus Christi Catholic School\, 12100 Quincy St.\, Holland\, MI\, 49424\, United States
CATEGORIES:Home Page Featured
ATTACH;FMTTYPE=image/png:https://www.corpuschristischool.us/wp-content/uploads/2023/09/Craft-Sale-2023.png
END:VEVENT
BEGIN:VEVENT
DTSTART;VALUE=DATE:20231113
DTEND;VALUE=DATE:20231114
DTSTAMP:20260424T102334
CREATED:20231115T131518Z
LAST-MODIFIED:20231115T131948Z
UID:15508-1699833600-1699919999@www.corpuschristischool.us
SUMMARY:Fire Drill Completed
DESCRIPTION:
URL:https://www.corpuschristischool.us/event/fire-drill-completed-24/
END:VEVENT
BEGIN:VEVENT
DTSTART;VALUE=DATE:20231103
DTEND;VALUE=DATE:20231104
DTSTAMP:20260424T102334
CREATED:20221122T011749Z
LAST-MODIFIED:20221122T014514Z
UID:15083-1698969600-1699055999@www.corpuschristischool.us
SUMMARY:Teacher In-Service - No School
DESCRIPTION:
URL:https://www.corpuschristischool.us/event/diocesan-pd-day-no-school-2/
END:VEVENT
BEGIN:VEVENT
DTSTART;VALUE=DATE:20231018
DTEND;VALUE=DATE:20231019
DTSTAMP:20260424T102334
CREATED:20231018T170409Z
LAST-MODIFIED:20231018T170409Z
UID:15502-1697587200-1697673599@www.corpuschristischool.us
SUMMARY:Fire Drill Complete
DESCRIPTION:
URL:https://www.corpuschristischool.us/event/fire-drill-complete-2/
END:VEVENT
BEGIN:VEVENT
DTSTART;VALUE=DATE:20230928
DTEND;VALUE=DATE:20230929
DTSTAMP:20260424T102334
CREATED:20230928T194941Z
LAST-MODIFIED:20230928T194941Z
UID:15493-1695859200-1695945599@www.corpuschristischool.us
SUMMARY:Fire Drill Completed
DESCRIPTION:
URL:https://www.corpuschristischool.us/event/fire-drill-completed-23/
END:VEVENT
BEGIN:VEVENT
DTSTART;TZID=UTC:20230901T080000
DTEND;TZID=UTC:20230904T170000
DTSTAMP:20260424T102334
CREATED:20221122T010655Z
LAST-MODIFIED:20221122T010655Z
UID:15075-1693555200-1693846800@www.corpuschristischool.us
SUMMARY:Labor Day holiday - No School
DESCRIPTION:
URL:https://www.corpuschristischool.us/event/labor-day-holiday-no-school-5/
END:VEVENT
BEGIN:VEVENT
DTSTART;VALUE=DATE:20230823
DTEND;VALUE=DATE:20230824
DTSTAMP:20260424T102334
CREATED:20221122T010934Z
LAST-MODIFIED:20221122T010934Z
UID:15077-1692748800-1692835199@www.corpuschristischool.us
SUMMARY:First Day of School
DESCRIPTION:
URL:https://www.corpuschristischool.us/event/first-day-of-school-3/
END:VEVENT
BEGIN:VEVENT
DTSTART;TZID=America/Detroit:20230725T153000
DTEND;TZID=America/Detroit:20230725T170000
DTSTAMP:20260424T102334
CREATED:20230725T131231Z
LAST-MODIFIED:20230725T131232Z
UID:15380-1690299000-1690304400@www.corpuschristischool.us
SUMMARY:Popsicles at the Playground
DESCRIPTION:Join us for a summer treat! Come play at the playground\, enjoy a popsicle\, play with some water balloons\, and see your friends!
URL:https://www.corpuschristischool.us/event/popsicles-at-the-playground/
LOCATION:Corpus Christi Catholic School\, 12100 Quincy St.\, Holland\, MI\, 49424\, United States
ATTACH;FMTTYPE=image/jpeg:https://www.corpuschristischool.us/wp-content/uploads/2023/07/jello-popsicles-square-500x375-1.jpg
END:VEVENT
BEGIN:VEVENT
DTSTART;VALUE=DATE:20230609
DTEND;VALUE=DATE:20230610
DTSTAMP:20260424T102334
CREATED:20220208T213013Z
LAST-MODIFIED:20220208T213013Z
UID:14463-1686268800-1686355199@www.corpuschristischool.us
SUMMARY:Last Day of School - Half Day
DESCRIPTION:
URL:https://www.corpuschristischool.us/event/last-day-of-school-half-day-4/
END:VEVENT
BEGIN:VEVENT
DTSTART;VALUE=DATE:20230607
DTEND;VALUE=DATE:20230608
DTSTAMP:20260424T102334
CREATED:20230214T204839Z
LAST-MODIFIED:20230214T204839Z
UID:15332-1686096000-1686182399@www.corpuschristischool.us
SUMMARY:8th Grade Graduation - 6:30pm
DESCRIPTION:
URL:https://www.corpuschristischool.us/event/8th-grade-graduation-630pm/
END:VEVENT
BEGIN:VEVENT
DTSTART;VALUE=DATE:20230605
DTEND;VALUE=DATE:20230606
DTSTAMP:20260424T102334
CREATED:20230214T204750Z
LAST-MODIFIED:20230214T204750Z
UID:15331-1685923200-1686009599@www.corpuschristischool.us
SUMMARY:Field Day
DESCRIPTION:
URL:https://www.corpuschristischool.us/event/field-day-2/
END:VEVENT
BEGIN:VEVENT
DTSTART;VALUE=DATE:20230603
DTEND;VALUE=DATE:20230604
DTSTAMP:20260424T102334
CREATED:20230327T175657Z
LAST-MODIFIED:20230327T175657Z
UID:15349-1685750400-1685836799@www.corpuschristischool.us
SUMMARY:Crusader Toss
DESCRIPTION:
URL:https://www.corpuschristischool.us/event/crusader-toss-2/
END:VEVENT
BEGIN:VEVENT
DTSTART;VALUE=DATE:20230529
DTEND;VALUE=DATE:20230530
DTSTAMP:20260424T102334
CREATED:20211027T195922Z
LAST-MODIFIED:20211027T195922Z
UID:14418-1685318400-1685404799@www.corpuschristischool.us
SUMMARY:Memorial Day holiday - No School
DESCRIPTION:
URL:https://www.corpuschristischool.us/event/memorial-day-holiday-no-school-2/
END:VEVENT
BEGIN:VEVENT
DTSTART;TZID=UTC:20230510T183000
DTEND;TZID=UTC:20230510T193000
DTSTAMP:20260424T102334
CREATED:20220830T174242Z
LAST-MODIFIED:20220830T174242Z
UID:14740-1683743400-1683747000@www.corpuschristischool.us
SUMMARY:Home & School Meeting
DESCRIPTION:
URL:https://www.corpuschristischool.us/event/home-school-meeting-25/
END:VEVENT
BEGIN:VEVENT
DTSTART;VALUE=DATE:20230505
DTEND;VALUE=DATE:20230506
DTSTAMP:20260424T102334
CREATED:20220830T214025Z
LAST-MODIFIED:20220830T214025Z
UID:14762-1683244800-1683331199@www.corpuschristischool.us
SUMMARY:Spirit Day
DESCRIPTION:
URL:https://www.corpuschristischool.us/event/spirit-day-8/
END:VEVENT
BEGIN:VEVENT
DTSTART;VALUE=DATE:20230505
DTEND;VALUE=DATE:20230506
DTSTAMP:20260424T102334
CREATED:20220830T214003Z
LAST-MODIFIED:20220830T214003Z
UID:14761-1683244800-1683331199@www.corpuschristischool.us
SUMMARY:Eucharistic Adoration
DESCRIPTION:
URL:https://www.corpuschristischool.us/event/eucharistic-adoration-13/
END:VEVENT
END:VCALENDAR